BEGIN:VCALENDAR
VERSION:2.0
PRODID:-//Bailadores de Bronce - ECPv6.15.16//NONSGML v1.0//EN
CALSCALE:GREGORIAN
METHOD:PUBLISH
X-ORIGINAL-URL:https://bailadoresdebronce.org
X-WR-CALDESC:Events for Bailadores de Bronce
REFRESH-INTERVAL;VALUE=DURATION:PT1H
X-Robots-Tag:noindex
X-PUBLISHED-TTL:PT1H
BEGIN:VTIMEZONE
TZID:America/Los_Angeles
BEGIN:DAYLIGHT
TZOFFSETFROM:-0800
TZOFFSETTO:-0700
TZNAME:PDT
DTSTART:20250309T100000
END:DAYLIGHT
BEGIN:STANDARD
TZOFFSETFROM:-0700
TZOFFSETTO:-0800
TZNAME:PST
DTSTART:20251102T090000
END:STANDARD
BEGIN:DAYLIGHT
TZOFFSETFROM:-0800
TZOFFSETTO:-0700
TZNAME:PDT
DTSTART:20260308T100000
END:DAYLIGHT
BEGIN:STANDARD
TZOFFSETFROM:-0700
TZOFFSETTO:-0800
TZNAME:PST
DTSTART:20261101T090000
END:STANDARD
BEGIN:DAYLIGHT
TZOFFSETFROM:-0800
TZOFFSETTO:-0700
TZNAME:PDT
DTSTART:20270314T100000
END:DAYLIGHT
BEGIN:STANDARD
TZOFFSETFROM:-0700
TZOFFSETTO:-0800
TZNAME:PST
DTSTART:20271107T090000
END:STANDARD
END:VTIMEZONE
BEGIN:VEVENT
DTSTART;TZID=America/Los_Angeles:20260920T100000
DTEND;TZID=America/Los_Angeles:20260920T110000
DTSTAMP:20260419T090856
CREATED:20251218T041739Z
LAST-MODIFIED:20251218T041739Z
UID:10007856-1789898400-1789902000@bailadoresdebronce.org
SUMMARY:Classes: Beginners
DESCRIPTION:This class is for beginning dancers. Please be on the lookout for last-minute rehearsal cancelations. Please email us at bdbronce@gmail.com or call at (206) 992-2869 to get more up-to-date information. Alternatively\, you can message us through Facebook messenger @bailadoresdebronce or DM us on Instagram @bdbronce. \nFor more information please check https://bailadoresdebronce.org/services/. \n \n 
URL:https://bailadoresdebronce.org/event/classes-beginners/2026-09-20/
LOCATION:Burien Dance Studio\, 408 SW 153rd St\, Burien\, WA\, 98166\, United States
CATEGORIES:Class
ORGANIZER;CN="Adrian Olivas%2C Executive Director":MAILTO:bdbronce@gmail.com
END:VEVENT
BEGIN:VEVENT
DTSTART;TZID=America/Los_Angeles:20260920T100000
DTEND;TZID=America/Los_Angeles:20260920T120000
DTSTAMP:20260419T090856
CREATED:20250821T023618Z
LAST-MODIFIED:20251218T040235Z
UID:10003881-1789898400-1789905600@bailadoresdebronce.org
SUMMARY:Classes: Intermediate
DESCRIPTION:This class is for dancers who have gone through our beginner class series. Please be on the lookout for last-minute rehearsal cancelations. Please email us at bdbronce@gmail.com or call at (206) 992-2869 to get more up-to-date information. Alternatively\, you can message us through Facebook messenger @bailadoresdebronce or DM us on Instagram @bdbronce. \nFor more information please check https://bailadoresdebronce.org/services/. \n \n 
URL:https://bailadoresdebronce.org/event/classes-intermediate/2026-09-20/
LOCATION:Burien Dance Studio\, 408 SW 153rd St\, Burien\, WA\, 98166\, United States
CATEGORIES:Class
ORGANIZER;CN="Adrian Olivas%2C Executive Director":MAILTO:bdbronce@gmail.com
END:VEVENT
BEGIN:VEVENT
DTSTART;TZID=America/Los_Angeles:20260922T190000
DTEND;TZID=America/Los_Angeles:20260922T213000
DTSTAMP:20260419T090856
CREATED:20250821T025428Z
LAST-MODIFIED:20251218T043556Z
UID:10007040-1790103600-1790112600@bailadoresdebronce.org
SUMMARY:Classes: Performing Group
DESCRIPTION:This class is for dancers in the performing group. Please be on the lookout for last-minute rehearsal cancelations. Please email us at bdbronce@gmail.com or call at (206) 992-2869 to get more up-to-date information. Alternatively\, you can message us through Facebook messenger @bailadoresdebronce or DM us on Instagram @bdbronce. \nFor more information please check https://bailadoresdebronce.org/services/. \n \n 
URL:https://bailadoresdebronce.org/event/classes-performing-group-2/2026-09-22/
LOCATION:Burien Dance Studio\, 408 SW 153rd St\, Burien\, WA\, 98166\, United States
CATEGORIES:Class
ORGANIZER;CN="Adrian Olivas%2C Executive Director":MAILTO:bdbronce@gmail.com
END:VEVENT
BEGIN:VEVENT
DTSTART;TZID=America/Los_Angeles:20260925T180000
DTEND;TZID=America/Los_Angeles:20260925T193000
DTSTAMP:20260419T090856
CREATED:20250821T023905Z
LAST-MODIFIED:20251218T035951Z
UID:10004663-1790359200-1790364600@bailadoresdebronce.org
SUMMARY:Classes: Intermediate
DESCRIPTION:This class is for dancers who have gone through our beginner class series. Please be on the lookout for last-minute rehearsal cancelations. Please email us at bdbronce@gmail.com or call at (206) 992-2869 to get more up-to-date information. Alternatively\, you can message us through Facebook messenger @bailadoresdebronce or DM us on Instagram @bdbronce. \nFor more information please check https://bailadoresdebronce.org/services/. \n \n 
URL:https://bailadoresdebronce.org/event/classes-intermediate-2/2026-09-25/
LOCATION:Burien Dance Studio\, 408 SW 153rd St\, Burien\, WA\, 98166\, United States
CATEGORIES:Class
ORGANIZER;CN="Adrian Olivas%2C Executive Director":MAILTO:bdbronce@gmail.com
END:VEVENT
BEGIN:VEVENT
DTSTART;TZID=America/Los_Angeles:20260925T193000
DTEND;TZID=America/Los_Angeles:20260925T220000
DTSTAMP:20260419T090856
CREATED:20250821T025203Z
LAST-MODIFIED:20251218T043800Z
UID:10006465-1790364600-1790373600@bailadoresdebronce.org
SUMMARY:Classes: Performing Group
DESCRIPTION:This class is for dancers in the performing group. Please be on the lookout for last-minute rehearsal cancelations. Please email us at bdbronce@gmail.com or call at (206) 992-2869 to get more up-to-date information. Alternatively\, you can message us through Facebook messenger @bailadoresdebronce or DM us on Instagram @bdbronce. \nFor more information please check https://bailadoresdebronce.org/services/. \n \n 
URL:https://bailadoresdebronce.org/event/classes-performing-group/2026-09-25/
LOCATION:Burien Dance Studio\, 408 SW 153rd St\, Burien\, WA\, 98166\, United States
CATEGORIES:Class
ORGANIZER;CN="Adrian Olivas%2C Executive Director":MAILTO:bdbronce@gmail.com
END:VEVENT
END:VCALENDAR